BEGIN:VCALENDAR
VERSION:2.0
PRODID:-//Buttlar Aktuell - ECPv6.15.20//NONSGML v1.0//EN
CALSCALE:GREGORIAN
METHOD:PUBLISH
X-WR-CALNAME:Buttlar Aktuell
X-ORIGINAL-URL:https://www.gemeinde-buttlar.info
X-WR-CALDESC:Veranstaltungen im Buttlar Aktuell
REFRESH-INTERVAL;VALUE=DURATION:PT1H
X-Robots-Tag:noindex
X-PUBLISHED-TTL:PT1H
BEGIN:VTIMEZONE
TZID:Europe/Berlin
BEGIN:DAYLIGHT
TZOFFSETFROM:+0100
TZOFFSETTO:+0200
TZNAME:CEST
DTSTART:20220327T010000
END:DAYLIGHT
BEGIN:STANDARD
TZOFFSETFROM:+0200
TZOFFSETTO:+0100
TZNAME:CET
DTSTART:20221030T010000
END:STANDARD
BEGIN:DAYLIGHT
TZOFFSETFROM:+0100
TZOFFSETTO:+0200
TZNAME:CEST
DTSTART:20230326T010000
END:DAYLIGHT
BEGIN:STANDARD
TZOFFSETFROM:+0200
TZOFFSETTO:+0100
TZNAME:CET
DTSTART:20231029T010000
END:STANDARD
BEGIN:DAYLIGHT
TZOFFSETFROM:+0100
TZOFFSETTO:+0200
TZNAME:CEST
DTSTART:20240331T010000
END:DAYLIGHT
BEGIN:STANDARD
TZOFFSETFROM:+0200
TZOFFSETTO:+0100
TZNAME:CET
DTSTART:20241027T010000
END:STANDARD
BEGIN:DAYLIGHT
TZOFFSETFROM:+0100
TZOFFSETTO:+0200
TZNAME:CEST
DTSTART:20250330T010000
END:DAYLIGHT
BEGIN:STANDARD
TZOFFSETFROM:+0200
TZOFFSETTO:+0100
TZNAME:CET
DTSTART:20251026T010000
END:STANDARD
END:VTIMEZONE
BEGIN:VEVENT
DTSTART;TZID=Europe/Berlin:20231231T233000
DTEND;TZID=Europe/Berlin:20240101T000000
DTSTAMP:20260424T163426
CREATED:20231230T082529Z
LAST-MODIFIED:20231230T082529Z
UID:17794-1704065400-1704067200@www.gemeinde-buttlar.info
SUMMARY:Jahreswechsel auf dem Michaelsberg
DESCRIPTION:Einladung zum Jahreswechsel auf dem Michaelsberg \nAm 31.12.2023 ist um 23:30 Uhr eine Segensandacht zum Jahreswechsel in der Michaelskapelle. Um 00:00 Uhr können wir gemeinsam das Neue Jahr begrüßen. \nBei schlechtem Wetter (rutschiger Wege) treffen wir uns zur gleichen Zeit an der Grotte in Buttlar.
URL:https://www.gemeinde-buttlar.info/event/jahreswechsel-auf-dem-michaelsberg-2/
END:VEVENT
END:VCALENDAR